BEGIN:VCALENDAR
VERSION:2.0
PRODID:-//wp-events-plugin.com//7.2.3.1//EN
TZID:America/Los_Angeles
X-WR-TIMEZONE:America/Los_Angeles
BEGIN:VEVENT
UID:0-134@scraperbiketeam.com
DTSTART;TZID=America/Los_Angeles:20240803T110000
DTEND;TZID=America/Los_Angeles:20240803T150000
DTSTAMP:20240708T184103Z
URL:https://scraperbiketeam.com/events/scraper-bike-backpack-giveaway/
SUMMARY:Scraper Bike Backpack Giveaway
DESCRIPTION:The Scraper Bike Team is hosting a BBQ & Backpack Giveaway at t
 he Shed @ Arroyo Park on Saturday\, August 3rd\, 2024 from 11:00 AM to 3:0
 0 PM. We're looking for vendors to join us!
ATTACH;FMTTYPE=image/jpeg:https://scraperbiketeam.com/wp-content/uploads/s
 ites/14/2024/07/Backpack-Giveaway-Flyer.jpg
LOCATION:The Shed at Arroyo Viejo Park\, 7701 Krause Ave\, Oakland\, CA\, 9
 4605\, United States
GEO:37.761833;-122.176113
X-APPLE-STRUCTURED-LOCATION;VALUE=URI;X-ADDRESS=7701 Krause Ave\, Oakland\,
  CA\, 94605\, United States;X-APPLE-RADIUS=100;X-TITLE=The Shed at Arroyo 
 Viejo Park:geo:37.761833,-122.176113
END:VEVENT
BEGIN:VTIMEZONE
TZID:America/Los_Angeles
X-LIC-LOCATION:America/Los_Angeles
BEGIN:DAYLIGHT
DTSTART:20240310T030000
TZOFFSETFROM:-0800
TZOFFSETTO:-0700
TZNAME:PDT
END:DAYLIGHT
END:VTIMEZONE
END:VCALENDAR