BEGIN:VCALENDAR
VERSION:2.0
PRODID:-//wp-events-plugin.com//7.2.3.1//EN
TZID:America/Los_Angeles
X-WR-TIMEZONE:America/Los_Angeles
BEGIN:VEVENT
UID:0-132@scraperbiketeam.com
DTSTART;TZID=America/Los_Angeles:20240522T130000
DTEND;TZID=America/Los_Angeles:20240522T170000
DTSTAMP:20240708T175801Z
URL:https://scraperbiketeam.com/events/community-bike-ride-to-mlk-shorelin
 e/
SUMMARY:Community bike ride to MLK Shoreline
DESCRIPTION:Join us this Wednesday for our final bike ride of the School Ye
 ar!! We will be taking students from our Enrichment Programs on a ride to 
 the shoreline. We will wrap it up with a small ceremony to celebrate our s
 cholars!! This is an open invitation to those who would like to join. LCI 
 Certified Riders highly recommended!! See ya soon.
ATTACH;FMTTYPE=image/jpeg:https://scraperbiketeam.com/wp-content/uploads/s
 ites/14/2024/05/IMG_2670.jpeg
END:VEVENT
BEGIN:VTIMEZONE
TZID:America/Los_Angeles
X-LIC-LOCATION:America/Los_Angeles
BEGIN:DAYLIGHT
DTSTART:20240310T030000
TZOFFSETFROM:-0800
TZOFFSETTO:-0700
TZNAME:PDT
END:DAYLIGHT
END:VTIMEZONE
END:VCALENDAR