BEGIN:VCALENDAR
VERSION:2.0
PRODID:-//wp-events-plugin.com//7.2.3.1//EN
TZID:America/Los_Angeles
X-WR-TIMEZONE:America/Los_Angeles
BEGIN:VEVENT
UID:0-133@scraperbiketeam.com
DTSTART;TZID=America/Los_Angeles:20240608T110000
DTEND;TZID=America/Los_Angeles:20240608T140000
DTSTAMP:20240708T175800Z
URL:https://scraperbiketeam.com/events/3rd-annual-liberation-bike-ride/
SUMMARY:3rd Annual Liberation Bike Ride
DESCRIPTION:The Scraper Bike Team will host our 3rd Annual Liberation Bik
 e Ride this Saturday\, June 8th!! We will meet at the Scraper Bike Teams:
  "Shed @ Arroyo Park". We will meet up at 11 am and ride out by 12pm. Get 
 your Scraper Bikes ready as we complete the ride on 90th Ave - Scraper Bik
 eway at the 3rd Annual East Oakland Futures Fest!! Hope to see you there 
 with your custom Scraper Bikes!!!\n\n\n
ATTACH;FMTTYPE=image/jpeg:https://scraperbiketeam.com/wp-content/uploads/s
 ites/14/2024/06/Liberation-Bike-Ride-Flyer.png
LOCATION:The Shed at Arroyo Viejo Park\, 7701 Krause Ave\, Oakland\, CA\, 9
 4605\, United States
GEO:37.761833;-122.176113
X-APPLE-STRUCTURED-LOCATION;VALUE=URI;X-ADDRESS=7701 Krause Ave\, Oakland\,
  CA\, 94605\, United States;X-APPLE-RADIUS=100;X-TITLE=The Shed at Arroyo 
 Viejo Park:geo:37.761833,-122.176113
END:VEVENT
BEGIN:VTIMEZONE
TZID:America/Los_Angeles
X-LIC-LOCATION:America/Los_Angeles
BEGIN:DAYLIGHT
DTSTART:20240310T030000
TZOFFSETFROM:-0800
TZOFFSETTO:-0700
TZNAME:PDT
END:DAYLIGHT
END:VTIMEZONE
END:VCALENDAR