BEGIN:VCALENDAR
VERSION:2.0
PRODID:-//wp-events-plugin.com//7.2.3.1//EN
TZID:America/Los_Angeles
X-WR-TIMEZONE:America/Los_Angeles
BEGIN:VEVENT
UID:0-281@scraperbiketeam.com
DTSTART;TZID=America/Los_Angeles:20241031T150000
DTEND;TZID=America/Los_Angeles:20241031T193000
DTSTAMP:20241028T163529Z
URL:https://scraperbiketeam.com/events/18th-annual-scraper-bike-day-hallow
 een-bike-ride/
SUMMARY:18th Annual Scraper Bike Day Halloween Bike Ride
DESCRIPTION:Join us for a laid-back celebration of 18 years of the Scraper 
 Bike Movement!\n\nCalling all current and former Scraper Bike members – 
 let's ride\, connect\, and reminisce about the good times.\n\nExpect:\n\n 
 	Good vibes\n 	Dope bikes\n 	Community love\n 	Costumes encouraged!\n\nSpr
 ead the word and bring your friends!
ATTACH;FMTTYPE=image/jpeg:https://scraperbiketeam.com/wp-content/uploads/s
 ites/14/2024/10/scraper-halloween.jpg
END:VEVENT
BEGIN:VTIMEZONE
TZID:America/Los_Angeles
X-LIC-LOCATION:America/Los_Angeles
BEGIN:DAYLIGHT
DTSTART:20240310T030000
TZOFFSETFROM:-0800
TZOFFSETTO:-0700
TZNAME:PDT
END:DAYLIGHT
END:VTIMEZONE
END:VCALENDAR